BEGIN:VCALENDAR
VERSION:2.0
PRODID:-//Économie sociale Laurentides - ECPv6.15.17.1//NONSGML v1.0//EN
CALSCALE:GREGORIAN
METHOD:PUBLISH
X-WR-CALNAME:Économie sociale Laurentides
X-ORIGINAL-URL:https://www.economiesocialelaurentides.ca
X-WR-CALDESC:Événements pour Économie sociale Laurentides
REFRESH-INTERVAL;VALUE=DURATION:PT1H
X-Robots-Tag:noindex
X-PUBLISHED-TTL:PT1H
BEGIN:VTIMEZONE
TZID:America/Toronto
BEGIN:DAYLIGHT
TZOFFSETFROM:-0500
TZOFFSETTO:-0400
TZNAME:EDT
DTSTART:20220313T070000
END:DAYLIGHT
BEGIN:STANDARD
TZOFFSETFROM:-0400
TZOFFSETTO:-0500
TZNAME:EST
DTSTART:20221106T060000
END:STANDARD
BEGIN:DAYLIGHT
TZOFFSETFROM:-0500
TZOFFSETTO:-0400
TZNAME:EDT
DTSTART:20230312T070000
END:DAYLIGHT
BEGIN:STANDARD
TZOFFSETFROM:-0400
TZOFFSETTO:-0500
TZNAME:EST
DTSTART:20231105T060000
END:STANDARD
BEGIN:DAYLIGHT
TZOFFSETFROM:-0500
TZOFFSETTO:-0400
TZNAME:EDT
DTSTART:20240310T070000
END:DAYLIGHT
BEGIN:STANDARD
TZOFFSETFROM:-0400
TZOFFSETTO:-0500
TZNAME:EST
DTSTART:20241103T060000
END:STANDARD
END:VTIMEZONE
BEGIN:VEVENT
DTSTART;TZID=America/Toronto:20230913T093000
DTEND;TZID=America/Toronto:20230913T113000
DTSTAMP:20260420T212912
CREATED:20230906T151735Z
LAST-MODIFIED:20230906T153432Z
UID:10950-1694597400-1694604600@www.economiesocialelaurentides.ca
SUMMARY:AGA et lancement de la saison
DESCRIPTION:Venez rencontrer notre équipe et échanger sur les projets de l’année à venir!\nCe 13 septembre 2023\, de 9h30 à 11h30\, nous vous invitons à notre assemblée générale annuelle et au lancement de notre programmation d’activités. \nLe tout se déroulera au Théâtre du Marais\, au 1121\, 10e Avenue à Val-Morin. \nRéservez votre matinée! \n9h00 – 9h30 : Accueil et réseautage\n9h30 – 10h45 : Assemblée générale\n11h00 – 11h30 : Lancement de la saison\n11h30 – 12h30 : Dîner réseautage \n\nPour vous inscrire
URL:https://www.economiesocialelaurentides.ca/calendrier/aga-et-lancement-de-la-saison/
LOCATION:Théâtre du Marais\, 1121\, 10e Avenue\, Val Morin\, QC\, J0T 2R0\, Canada
ATTACH;FMTTYPE=image/png:https://www.economiesocialelaurentides.ca/wp-content/uploads/2023/06/Assemblee-generale-annuelle.png
END:VEVENT
END:VCALENDAR