BEGIN:VCALENDAR
VERSION:2.0
PRODID:-//Économie sociale Laurentides - ECPv6.15.17.1//NONSGML v1.0//EN
CALSCALE:GREGORIAN
METHOD:PUBLISH
X-ORIGINAL-URL:https://www.economiesocialelaurentides.ca
X-WR-CALDESC:Événements pour Économie sociale Laurentides
REFRESH-INTERVAL;VALUE=DURATION:PT1H
X-Robots-Tag:noindex
X-PUBLISHED-TTL:PT1H
BEGIN:VTIMEZONE
TZID:America/Toronto
BEGIN:DAYLIGHT
TZOFFSETFROM:-0500
TZOFFSETTO:-0400
TZNAME:EDT
DTSTART:20230312T070000
END:DAYLIGHT
BEGIN:STANDARD
TZOFFSETFROM:-0400
TZOFFSETTO:-0500
TZNAME:EST
DTSTART:20231105T060000
END:STANDARD
BEGIN:DAYLIGHT
TZOFFSETFROM:-0500
TZOFFSETTO:-0400
TZNAME:EDT
DTSTART:20240310T070000
END:DAYLIGHT
BEGIN:STANDARD
TZOFFSETFROM:-0400
TZOFFSETTO:-0500
TZNAME:EST
DTSTART:20241103T060000
END:STANDARD
BEGIN:DAYLIGHT
TZOFFSETFROM:-0500
TZOFFSETTO:-0400
TZNAME:EDT
DTSTART:20250309T070000
END:DAYLIGHT
BEGIN:STANDARD
TZOFFSETFROM:-0400
TZOFFSETTO:-0500
TZNAME:EST
DTSTART:20251102T060000
END:STANDARD
END:VTIMEZONE
BEGIN:VEVENT
DTSTART;TZID=America/Toronto:20240117T120000
DTEND;TZID=America/Toronto:20240117T130000
DTSTAMP:20260420T160136
CREATED:20230920T135050Z
LAST-MODIFIED:20230929T152002Z
UID:11034-1705492800-1705496400@www.economiesocialelaurentides.ca
SUMMARY:Cohorte de codéveloppement
DESCRIPTION:Ces séances de codéveloppement sont destinées à tous les gestionnaires d’entreprise collective qui ressentent parfois le besoin de partager leurs défis à leurs pairs afin de prendre du recul sur certaines situations professionnelles. \nLes participant.es se rencontreront sur une base mensuelle afin d’échanger en petit groupe sur les sujets de leur choix et ainsi profiter de l’expérience d’autres dirigeant.es d’entreprise d’économie sociale pour explorer de nouvelles pistes de réflexion et d’action. \nLes rencontres se tiendront en mode virtuel sur l’heure du dîner\, pour prendre le temps d’alléger sa charge mentale\, tout en partageant un repas. \nDates des séances : \n\n4 octobre 2023\n1er novembre 2023\n6 décembre 2023\n17 janvier 2024\n7 février 2024\n6 mars 2024\n3 avril 2024\n1er mai 2024\n\n  \nPour vous inscrire\, ICI.\n  \n* Les personnes s’inscrivant à la cohorte sont invitées à participer à l’ensemble des séances afin de favoriser la création de liens de confiance entre les participant.es. \nUn lien Zoom vous sera envoyé suite à votre inscription. \n  \nMerci de participer à la REconneXion dans les Laurentides !
URL:https://www.economiesocialelaurentides.ca/calendrier/cohorte-de-codeveloppement-4/
LOCATION:Virtuel
CATEGORIES:Cohorte de codéveloppement
ATTACH;FMTTYPE=image/png:https://www.economiesocialelaurentides.ca/wp-content/uploads/2023/09/Codev.png
END:VEVENT
BEGIN:VEVENT
DTSTART;TZID=America/Toronto:20240123T113000
DTEND;TZID=America/Toronto:20240123T130000
DTSTAMP:20260420T160136
CREATED:20231106T134451Z
LAST-MODIFIED:20231106T134451Z
UID:11345-1706009400-1706014800@www.economiesocialelaurentides.ca
SUMMARY:Webinaire sur la cybersécurité
DESCRIPTION:Les entreprises au Québec doivent respecter plusieurs règlements. S’il y en a un qui devrait être sur votre radar\, c’est bien la Loi modernisant des dispositions législatives en matière de protection des renseignements personnels dans le secteur privé\, aussi appelée Loi 25. \nEn effet\, depuis septembre 2022\, des changements importants ont été apportés à la loi et de nouvelles modifications s’ajouteront en septembre 2023 et 2024. Or\, le non-respect de ces changements pourrait mener votre organisation à des sanctions administratives ou pénales. Dans ce webinaire\, nous parlerons des nouvelles obligations imposées par la Loi\, et des bonnes pratiques à adopter dans le futur en matière de cybersécurité pour moderniser sa gestion des renseignements personnels. En somme\, c’est entamer une transformation numérique de votre organisation. Bonne nouvelle\, il existe un programme de subvention du MEIE pour vous aider à y arriver : l’offensive de transformation numérique! \nAnimé par Martin Noël\, conseiller principal en développement coopératif — transformation numérique et gouvernance à la Coopérative de développement régional du Québec. \nPour vous inscrire\, cliquez ICI.\n  \nMerci de participer à la REconneXion dans les Laurentides !
URL:https://www.economiesocialelaurentides.ca/calendrier/webinaire-sur-la-cybersecurite/
LOCATION:Virtuel
CATEGORIES:webinaire
ATTACH;FMTTYPE=image/png:https://www.economiesocialelaurentides.ca/wp-content/uploads/2023/11/cybersecurite.png
END:VEVENT
END:VCALENDAR