BEGIN:VCALENDAR
VERSION:2.0
PRODID:-//Économie sociale Laurentides - ECPv6.15.17.1//NONSGML v1.0//EN
CALSCALE:GREGORIAN
METHOD:PUBLISH
X-ORIGINAL-URL:https://www.economiesocialelaurentides.ca
X-WR-CALDESC:Événements pour Économie sociale Laurentides
REFRESH-INTERVAL;VALUE=DURATION:PT1H
X-Robots-Tag:noindex
X-PUBLISHED-TTL:PT1H
BEGIN:VTIMEZONE
TZID:America/Toronto
BEGIN:DAYLIGHT
TZOFFSETFROM:-0500
TZOFFSETTO:-0400
TZNAME:EDT
DTSTART:20220313T070000
END:DAYLIGHT
BEGIN:STANDARD
TZOFFSETFROM:-0400
TZOFFSETTO:-0500
TZNAME:EST
DTSTART:20221106T060000
END:STANDARD
BEGIN:DAYLIGHT
TZOFFSETFROM:-0500
TZOFFSETTO:-0400
TZNAME:EDT
DTSTART:20230312T070000
END:DAYLIGHT
BEGIN:STANDARD
TZOFFSETFROM:-0400
TZOFFSETTO:-0500
TZNAME:EST
DTSTART:20231105T060000
END:STANDARD
BEGIN:DAYLIGHT
TZOFFSETFROM:-0500
TZOFFSETTO:-0400
TZNAME:EDT
DTSTART:20240310T070000
END:DAYLIGHT
BEGIN:STANDARD
TZOFFSETFROM:-0400
TZOFFSETTO:-0500
TZNAME:EST
DTSTART:20241103T060000
END:STANDARD
END:VTIMEZONE
BEGIN:VEVENT
DTSTART;TZID=America/Toronto:20231023T113000
DTEND;TZID=America/Toronto:20231023T130000
DTSTAMP:20260420T144745
CREATED:20230919T195109Z
LAST-MODIFIED:20230929T150456Z
UID:10992-1698060600-1698066000@www.economiesocialelaurentides.ca
SUMMARY:Philanthropie et économie sociale
DESCRIPTION:Les fondations philanthropiques assemblent et gèrent des fonds de dotation qui viennent en appui aux organisations et aux communautés. Ce webinaire vise donc à démystifier leur rôle\, tout en abordant le financement caritatif\, ainsi que les points d’intersections entre l’économie sociale et l’investissement d’impact. \nMM. Daniel Brunette et André Marion\, présidents de Philanthropie Outaouais et de Philanthropie Laurentides\, présenteront des initiatives de leur région et échangeront sur les bénéfices d’accéder à des ressources financières complémentaires pour le déploiement de la mission des entreprises d’économie sociale. \nPour vous inscrire\, ICI.\n  \nUn lien Zoom vous sera envoyé suite à votre inscription. \n  \nMerci de participer à la REconneXion dans les Laurentides !
URL:https://www.economiesocialelaurentides.ca/calendrier/philanthropie-et-economie-sociale/
LOCATION:Virtuel
ATTACH;FMTTYPE=image/png:https://www.economiesocialelaurentides.ca/wp-content/uploads/2023/09/La-philanthropie-et-leconomie-sociale-23-octobre-2023-1.png
END:VEVENT
END:VCALENDAR