BEGIN:VCALENDAR
VERSION:2.0
PRODID:-//Économie sociale Laurentides - ECPv6.15.17.1//NONSGML v1.0//EN
CALSCALE:GREGORIAN
METHOD:PUBLISH
X-WR-CALNAME:Économie sociale Laurentides
X-ORIGINAL-URL:https://www.economiesocialelaurentides.ca
X-WR-CALDESC:Événements pour Économie sociale Laurentides
REFRESH-INTERVAL;VALUE=DURATION:PT1H
X-Robots-Tag:noindex
X-PUBLISHED-TTL:PT1H
BEGIN:VTIMEZONE
TZID:America/Toronto
BEGIN:DAYLIGHT
TZOFFSETFROM:-0500
TZOFFSETTO:-0400
TZNAME:EDT
DTSTART:20240310T070000
END:DAYLIGHT
BEGIN:STANDARD
TZOFFSETFROM:-0400
TZOFFSETTO:-0500
TZNAME:EST
DTSTART:20241103T060000
END:STANDARD
BEGIN:DAYLIGHT
TZOFFSETFROM:-0500
TZOFFSETTO:-0400
TZNAME:EDT
DTSTART:20250309T070000
END:DAYLIGHT
BEGIN:STANDARD
TZOFFSETFROM:-0400
TZOFFSETTO:-0500
TZNAME:EST
DTSTART:20251102T060000
END:STANDARD
BEGIN:DAYLIGHT
TZOFFSETFROM:-0500
TZOFFSETTO:-0400
TZNAME:EDT
DTSTART:20260308T070000
END:DAYLIGHT
BEGIN:STANDARD
TZOFFSETFROM:-0400
TZOFFSETTO:-0500
TZNAME:EST
DTSTART:20261101T060000
END:STANDARD
END:VTIMEZONE
BEGIN:VEVENT
DTSTART;TZID=America/Toronto:20250422T120000
DTEND;TZID=America/Toronto:20250422T130000
DTSTAMP:20260420T084724
CREATED:20250107T214109Z
LAST-MODIFIED:20250306T160603Z
UID:12303-1745323200-1745326800@www.economiesocialelaurentides.ca
SUMMARY:ABC de l'économie sociale
DESCRIPTION:Vous avez un projet en tête et vous hésitez sur la forme qu’il peut prendre ? Vous êtes curieux.euses de connaître un modèle économique différent ? Vous souhaitez en savoir davantage sur l’économie sociale ?\n\n\n\nLa Coopérative de développement régional Outaouais-Laurentides (CDROL)\, Économie sociale Laurentides et le Pôle d’économie sociale de l’Outaouais vous proposent\, conjointement\, une discussion autour de l’économie sociale afin de démystifier ce type de développement territorial. \n\n\n\n🎤 30 minutes de présentation\n\n\n\n🙋‍♀️ 30 minutes de questions\n\n\n\nFormation gratuite ouverte à toutes les personnes curieuses\, entrepreneures ou non ! \n\n\n\nPour s’inscrire\, CLIQUEZ ICI.\n\n\n\nProchaine date : \n\n\n\n5 juin
URL:https://www.economiesocialelaurentides.ca/calendrier/abc-19avril/
LOCATION:Virtuel
CATEGORIES:webinaire
ATTACH;FMTTYPE=image/png:https://www.economiesocialelaurentides.ca/wp-content/uploads/2025/01/ABC-22-avril-2025-Outaouais-Laurentides.png
END:VEVENT
END:VCALENDAR